BEGIN:VCALENDAR
VERSION:2.0
PRODID:-//Hollins University - ECPv6.15.20//NONSGML v1.0//EN
CALSCALE:GREGORIAN
METHOD:PUBLISH
X-ORIGINAL-URL:https://www.hollins.edu
X-WR-CALDESC:Events for Hollins University
REFRESH-INTERVAL;VALUE=DURATION:PT1H
X-Robots-Tag:noindex
X-PUBLISHED-TTL:PT1H
BEGIN:VTIMEZONE
TZID:America/New_York
BEGIN:DAYLIGHT
TZOFFSETFROM:-0500
TZOFFSETTO:-0400
TZNAME:EDT
DTSTART:20250309T070000
END:DAYLIGHT
BEGIN:STANDARD
TZOFFSETFROM:-0400
TZOFFSETTO:-0500
TZNAME:EST
DTSTART:20251102T060000
END:STANDARD
BEGIN:DAYLIGHT
TZOFFSETFROM:-0500
TZOFFSETTO:-0400
TZNAME:EDT
DTSTART:20260308T070000
END:DAYLIGHT
BEGIN:STANDARD
TZOFFSETFROM:-0400
TZOFFSETTO:-0500
TZNAME:EST
DTSTART:20261101T060000
END:STANDARD
BEGIN:DAYLIGHT
TZOFFSETFROM:-0500
TZOFFSETTO:-0400
TZNAME:EDT
DTSTART:20270314T070000
END:DAYLIGHT
BEGIN:STANDARD
TZOFFSETFROM:-0400
TZOFFSETTO:-0500
TZNAME:EST
DTSTART:20271107T060000
END:STANDARD
END:VTIMEZONE
BEGIN:VEVENT
DTSTART;TZID=America/New_York:20260313T000000
DTEND;TZID=America/New_York:20260313T235959
DTSTAMP:20260420T103641
CREATED:20260312T181121Z
LAST-MODIFIED:20260313T115724Z
UID:74135-1773360000-1773446399@www.hollins.edu
SUMMARY:Leading Equity\, Diversity\, and Justice Conference 2026
DESCRIPTION:Hollins’ annual Leading Equity\, Diversity\, and Justice (EDJ) Conference aims to create an intentional and meaningful space to reflect\, learn\, and facilitate action toward creating a more equitable and just community. We envision a conference that uplifts participants\, while supporting deep learning and engagement related to the central theme of this conference: Breaking Ceilings\, Opening Doors: Reimagining Work and Leadership.
URL:https://www.hollins.edu/about-hollins/commitment-to-access-and-excellence-for-all/leading-equity-diversity-and-justice-conference/#new_tab
LOCATION:Hollins University Campus\, 7916 Williamson Road\, Roanoke\, VA\, 24020\, United States
CATEGORIES:Community Event,Lectures,Open to the Public
ATTACH;FMTTYPE=image/jpeg:https://www.hollins.edu/wp-content/uploads/2025/12/SSWBB-2026-LeadingEDJ-C3-banner_v2.jpg
END:VEVENT
BEGIN:VEVENT
DTSTART;TZID=America/New_York:20260423T000000
DTEND;TZID=America/New_York:20260423T235959
DTSTAMP:20260420T103641
CREATED:20260416T184216Z
LAST-MODIFIED:20260416T184216Z
UID:75110-1776902400-1776988799@www.hollins.edu
SUMMARY:Day of Giving
DESCRIPTION:
URL:https://alumnae.hollins.edu/s/1916/20/interior.aspx?sid=1916&#038;pgid=1360&#038;gid=2&#038;cid=3197&#038;ecid=3197&#038;post_id=0
LOCATION:Virtual
CATEGORIES:Community Event
ATTACH;FMTTYPE=image/png:https://www.hollins.edu/wp-content/uploads/2026/04/dog_2026_2-scaled.png
END:VEVENT
BEGIN:VEVENT
DTSTART;TZID=America/New_York:20260517T100000
DTEND;TZID=America/New_York:20260517T120000
DTSTAMP:20260420T103641
CREATED:20250910T144650Z
LAST-MODIFIED:20260302T144545Z
UID:71515-1779012000-1779019200@www.hollins.edu
SUMMARY:Commencement 2026
DESCRIPTION:More information regarding the comprehensive schedule for Commencement Weekend\, including the featured speaker\, will be provided in early March.\n\n 
URL:https://www.hollins.edu/resources-for/parents-families/commencement/#new_tab
LOCATION:Berglund Center\, 710 Williamson Rd NE\, Roanoke\, 24016\, United States
CATEGORIES:Academic Calendar,Community Event,Open to the Public
ATTACH;FMTTYPE=image/jpeg:https://www.hollins.edu/wp-content/uploads/2025/09/Hollins-University-Commencement-2025.jpg
ORGANIZER;CN="Megan Canfield":MAILTO:canfieldm@hollins.edu
END:VEVENT
END:VCALENDAR