BEGIN:VCALENDAR
VERSION:2.0
PRODID:-//Hollins University - ECPv6.15.20//NONSGML v1.0//EN
CALSCALE:GREGORIAN
METHOD:PUBLISH
X-ORIGINAL-URL:https://www.hollins.edu
X-WR-CALDESC:Events for Hollins University
REFRESH-INTERVAL;VALUE=DURATION:PT1H
X-Robots-Tag:noindex
X-PUBLISHED-TTL:PT1H
BEGIN:VTIMEZONE
TZID:America/New_York
BEGIN:DAYLIGHT
TZOFFSETFROM:-0500
TZOFFSETTO:-0400
TZNAME:EDT
DTSTART:20230312T070000
END:DAYLIGHT
BEGIN:STANDARD
TZOFFSETFROM:-0400
TZOFFSETTO:-0500
TZNAME:EST
DTSTART:20231105T060000
END:STANDARD
BEGIN:DAYLIGHT
TZOFFSETFROM:-0500
TZOFFSETTO:-0400
TZNAME:EDT
DTSTART:20240310T070000
END:DAYLIGHT
BEGIN:STANDARD
TZOFFSETFROM:-0400
TZOFFSETTO:-0500
TZNAME:EST
DTSTART:20241103T060000
END:STANDARD
BEGIN:DAYLIGHT
TZOFFSETFROM:-0500
TZOFFSETTO:-0400
TZNAME:EDT
DTSTART:20250309T070000
END:DAYLIGHT
BEGIN:STANDARD
TZOFFSETFROM:-0400
TZOFFSETTO:-0500
TZNAME:EST
DTSTART:20251102T060000
END:STANDARD
END:VTIMEZONE
BEGIN:VEVENT
DTSTART;TZID=America/New_York:20240627T190000
DTEND;TZID=America/New_York:20240627T200000
DTSTAMP:20260420T152515
CREATED:20240516T175543Z
LAST-MODIFIED:20240521T175700Z
UID:69178-1719514800-1719518400@www.hollins.edu
SUMMARY:2024 Children’s Literature Writer-in-Residence and Symposium Keynote Speaker\, Mitali Perkins
DESCRIPTION:Born in Kolkata\, India\, Perkins lived in Ghana\, Cameroon\, England\, and Mexico before her parents settled in California when she was in middle school. She is the author of many award-winning picture books and novels for young readers\, including Rickshaw Girl\, which was adapted into a film. She’s also written a nonfiction book for adults about children’s literature\, Steeped in Stories: Timeless Children’s Novels to Refresh our Tired Souls. Her newest releases are a picture book\, Holy Night and Little Star\, and a middle-grade novel\, Hope in the Valley. Perkins lives and writes in the San Francisco Bay Area. mitaliperkins.com\n\nLecture\, Thursday\, June 27\, 7 pm. Niederer Auditorium\, Wetherill Visual Arts Center and online. Email kidlit@hollins.edu for link. Sponsored by the graduate programs in children’s literature. Online: https://hollins.zoom.us/j/9154582283?omn=84139553380
URL:https://www.hollins.edu/event/2024-childrens-literature-writer-in-residence-and-symposium-keynote-speaker-mitali-perkins/
LOCATION:Frances Niederer Auditorium\, Richard Wetherill Visual Arts Center
CATEGORIES:Children's Literature,Community Event,Graduate Programs,Lectures,Open to the Public
END:VEVENT
END:VCALENDAR