BEGIN:VCALENDAR
VERSION:2.0
PRODID:-//Hollins University - ECPv6.15.20//NONSGML v1.0//EN
CALSCALE:GREGORIAN
METHOD:PUBLISH
X-ORIGINAL-URL:https://www.hollins.edu
X-WR-CALDESC:Events for Hollins University
REFRESH-INTERVAL;VALUE=DURATION:PT1H
X-Robots-Tag:noindex
X-PUBLISHED-TTL:PT1H
BEGIN:VTIMEZONE
TZID:America/New_York
BEGIN:DAYLIGHT
TZOFFSETFROM:-0500
TZOFFSETTO:-0400
TZNAME:EDT
DTSTART:20230312T070000
END:DAYLIGHT
BEGIN:STANDARD
TZOFFSETFROM:-0400
TZOFFSETTO:-0500
TZNAME:EST
DTSTART:20231105T060000
END:STANDARD
BEGIN:DAYLIGHT
TZOFFSETFROM:-0500
TZOFFSETTO:-0400
TZNAME:EDT
DTSTART:20240310T070000
END:DAYLIGHT
BEGIN:STANDARD
TZOFFSETFROM:-0400
TZOFFSETTO:-0500
TZNAME:EST
DTSTART:20241103T060000
END:STANDARD
BEGIN:DAYLIGHT
TZOFFSETFROM:-0500
TZOFFSETTO:-0400
TZNAME:EDT
DTSTART:20250309T070000
END:DAYLIGHT
BEGIN:STANDARD
TZOFFSETFROM:-0400
TZOFFSETTO:-0500
TZNAME:EST
DTSTART:20251102T060000
END:STANDARD
END:VTIMEZONE
BEGIN:VEVENT
DTSTART;TZID=America/New_York:20240530T120000
DTEND;TZID=America/New_York:20240530T200000
DTSTAMP:20260420T152445
CREATED:20240521T184441Z
LAST-MODIFIED:20240521T184616Z
UID:69203-1717070400-1717099200@www.hollins.edu
SUMMARY:Women Working with Clay Exhibit
DESCRIPTION:In conjunction with the annual Women Working with Clay Symposium held each summer at Hollins University\, the Eleanor D. Wilson Museum presents an exhibition of work by well-known artists in the world of contemporary ceramics. This symposium emphasizes the creative process from every level while looking at aspects and points of view that may be unique to women working in clay. Exhibit through July 21.\n\nMuseum hours: Tuesday – Saturday 12-5 pm\, Thursday 12-8 pm (closed Mondays)
URL:https://www.hollins.edu/event/women-working-with-clay-exhibit/
LOCATION:Eleanor D. Wilson Museum\, Richard Wetherill Visual Arts Center
CATEGORIES:Art,Community Event,Open to the Public,Wilson Museum
END:VEVENT
END:VCALENDAR