BEGIN:VCALENDAR
VERSION:2.0
PRODID:-//Hollins University - ECPv6.15.20//NONSGML v1.0//EN
CALSCALE:GREGORIAN
METHOD:PUBLISH
X-ORIGINAL-URL:https://www.hollins.edu
X-WR-CALDESC:Events for Hollins University
REFRESH-INTERVAL;VALUE=DURATION:PT1H
X-Robots-Tag:noindex
X-PUBLISHED-TTL:PT1H
BEGIN:VTIMEZONE
TZID:America/New_York
BEGIN:DAYLIGHT
TZOFFSETFROM:-0500
TZOFFSETTO:-0400
TZNAME:EDT
DTSTART:20230312T070000
END:DAYLIGHT
BEGIN:STANDARD
TZOFFSETFROM:-0400
TZOFFSETTO:-0500
TZNAME:EST
DTSTART:20231105T060000
END:STANDARD
BEGIN:DAYLIGHT
TZOFFSETFROM:-0500
TZOFFSETTO:-0400
TZNAME:EDT
DTSTART:20240310T070000
END:DAYLIGHT
BEGIN:STANDARD
TZOFFSETFROM:-0400
TZOFFSETTO:-0500
TZNAME:EST
DTSTART:20241103T060000
END:STANDARD
BEGIN:DAYLIGHT
TZOFFSETFROM:-0500
TZOFFSETTO:-0400
TZNAME:EDT
DTSTART:20250309T070000
END:DAYLIGHT
BEGIN:STANDARD
TZOFFSETFROM:-0400
TZOFFSETTO:-0500
TZNAME:EST
DTSTART:20251102T060000
END:STANDARD
END:VTIMEZONE
BEGIN:VEVENT
DTSTART;TZID=America/New_York:20240502T173000
DTEND;TZID=America/New_York:20240502T190000
DTSTAMP:20260420T170022
CREATED:20240326T172513Z
LAST-MODIFIED:20240425T001043Z
UID:68709-1714671000-1714676400@www.hollins.edu
SUMMARY:2024 Senior Majors Exhibition
DESCRIPTION:Along with the 2024 Ceramics Post-Baccalaureate exhibition.\n\nThrough May 19\, 2024\n\nHours: Tuesday – Saturday 12-5 pm\, Thursday 12-8 pm (closed Mondays) 
URL:https://www.hollins.edu/event/2024-senior-majors-exhibition/
LOCATION:Eleanor D. Wilson Museum\, Richard Wetherill Visual Arts Center
CATEGORIES:Art,Community Event,Open to the Public,Wilson Museum
END:VEVENT
BEGIN:VEVENT
DTSTART;TZID=America/New_York:20240502T190000
DTEND;TZID=America/New_York:20240502T200000
DTSTAMP:20260420T170022
CREATED:20240219T165753Z
LAST-MODIFIED:20240429T155412Z
UID:68435-1714676400-1714680000@www.hollins.edu
SUMMARY:Choir Quad Concert
DESCRIPTION:Our end-of-semester choir concert features a picnic-like atmosphere as our combined choirs perform to their audience seated in comfort on the beautiful Hollins Front Quad. Join us for ice cream!
URL:https://www.hollins.edu/event/choir-quad-concert/
LOCATION:Front Quad
CATEGORIES:Community Event,Concerts,Music,Open to the Public
END:VEVENT
BEGIN:VEVENT
DTSTART;TZID=America/New_York:20240502T193000
DTEND;TZID=America/New_York:20240502T203000
DTSTAMP:20260420T170022
CREATED:20240124T155135Z
LAST-MODIFIED:20240418T144755Z
UID:68175-1714678200-1714681800@www.hollins.edu
SUMMARY:Farewell Reading – The Last Cabbage Patch
DESCRIPTION:An open reading by Hollins seniors and graduating creative writing M.F.A. students. One last chance to hear our favorite student writers read before they depart.\n\nSponsored by the Department of English and Creative Writing and the Dee Hull Everist Visiting Speaker Fund.
URL:https://www.hollins.edu/event/farewell-reading-the-last-cabbage-patch/
LOCATION:Hollins Room\, Wyndham Robertson Library\, 7916 Williamson Road\, Roanoke\, VA\, 24020\, United States
CATEGORIES:Community Event,Open to the Public,Readings
END:VEVENT
END:VCALENDAR