BEGIN:VCALENDAR
VERSION:2.0
PRODID:-//Hollins University - ECPv6.15.20//NONSGML v1.0//EN
CALSCALE:GREGORIAN
METHOD:PUBLISH
X-WR-CALNAME:Hollins University
X-ORIGINAL-URL:https://www.hollins.edu
X-WR-CALDESC:Events for Hollins University
REFRESH-INTERVAL;VALUE=DURATION:PT1H
X-Robots-Tag:noindex
X-PUBLISHED-TTL:PT1H
BEGIN:VTIMEZONE
TZID:America/New_York
BEGIN:DAYLIGHT
TZOFFSETFROM:-0500
TZOFFSETTO:-0400
TZNAME:EDT
DTSTART:20230312T070000
END:DAYLIGHT
BEGIN:STANDARD
TZOFFSETFROM:-0400
TZOFFSETTO:-0500
TZNAME:EST
DTSTART:20231105T060000
END:STANDARD
BEGIN:DAYLIGHT
TZOFFSETFROM:-0500
TZOFFSETTO:-0400
TZNAME:EDT
DTSTART:20240310T070000
END:DAYLIGHT
BEGIN:STANDARD
TZOFFSETFROM:-0400
TZOFFSETTO:-0500
TZNAME:EST
DTSTART:20241103T060000
END:STANDARD
BEGIN:DAYLIGHT
TZOFFSETFROM:-0500
TZOFFSETTO:-0400
TZNAME:EDT
DTSTART:20250309T070000
END:DAYLIGHT
BEGIN:STANDARD
TZOFFSETFROM:-0400
TZOFFSETTO:-0500
TZNAME:EST
DTSTART:20251102T060000
END:STANDARD
END:VTIMEZONE
BEGIN:VEVENT
DTSTART;TZID=America/New_York:20240419T140000
DTEND;TZID=America/New_York:20240419T150000
DTSTAMP:20260420T183121
CREATED:20240220T151953Z
LAST-MODIFIED:20240220T151953Z
UID:68453-1713535200-1713538800@www.hollins.edu
SUMMARY:Graduate DRAFTWORKS Artist Talk
DESCRIPTION:Year Residency graduate students Paris Gray\, Sarah Lunceford\, and Katy Womack present an ARTIST TALK about their new dance and performance work.\n\nBotetourt Reading Room
URL:https://www.hollins.edu/event/graduate-draftworks-artist-talk/
LOCATION:Botetourt Reading Room\, 7916 Williamson Road\, Roanoke\, VA\, 24020\, United States
CATEGORIES:Community Event,Dance,Open to the Public
END:VEVENT
BEGIN:VEVENT
DTSTART;TZID=America/New_York:20240419T200000
DTEND;TZID=America/New_York:20240419T210000
DTSTAMP:20260420T183121
CREATED:20240220T152125Z
LAST-MODIFIED:20240325T185018Z
UID:68454-1713556800-1713560400@www.hollins.edu
SUMMARY:DRAFTWORKS: a salon showing
DESCRIPTION:Year Residency graduate students Paris Gray\, Sarah Lunceford\, and Katy Womack present an informal showing of new works-in-progress.\n\nBotetourt Studio II
URL:https://www.hollins.edu/event/draftworks-a-salon-showing/
LOCATION:Botetourt\, Studio II
CATEGORIES:Community Event,Dance,Open to the Public
END:VEVENT
END:VCALENDAR