BEGIN:VCALENDAR
VERSION:2.0
PRODID:-//Hollins University - ECPv6.15.20//NONSGML v1.0//EN
CALSCALE:GREGORIAN
METHOD:PUBLISH
X-ORIGINAL-URL:https://www.hollins.edu
X-WR-CALDESC:Events for Hollins University
REFRESH-INTERVAL;VALUE=DURATION:PT1H
X-Robots-Tag:noindex
X-PUBLISHED-TTL:PT1H
BEGIN:VTIMEZONE
TZID:America/New_York
BEGIN:DAYLIGHT
TZOFFSETFROM:-0500
TZOFFSETTO:-0400
TZNAME:EDT
DTSTART:20230312T070000
END:DAYLIGHT
BEGIN:STANDARD
TZOFFSETFROM:-0400
TZOFFSETTO:-0500
TZNAME:EST
DTSTART:20231105T060000
END:STANDARD
BEGIN:DAYLIGHT
TZOFFSETFROM:-0500
TZOFFSETTO:-0400
TZNAME:EDT
DTSTART:20240310T070000
END:DAYLIGHT
BEGIN:STANDARD
TZOFFSETFROM:-0400
TZOFFSETTO:-0500
TZNAME:EST
DTSTART:20241103T060000
END:STANDARD
BEGIN:DAYLIGHT
TZOFFSETFROM:-0500
TZOFFSETTO:-0400
TZNAME:EDT
DTSTART:20250309T070000
END:DAYLIGHT
BEGIN:STANDARD
TZOFFSETFROM:-0400
TZOFFSETTO:-0500
TZNAME:EST
DTSTART:20251102T060000
END:STANDARD
END:VTIMEZONE
BEGIN:VEVENT
DTSTART;TZID=America/New_York:20240411T180000
DTEND;TZID=America/New_York:20240411T190000
DTSTAMP:20260420T183244
CREATED:20240220T151828Z
LAST-MODIFIED:20240220T151828Z
UID:68452-1712858400-1712862000@www.hollins.edu
SUMMARY:Conversations: Visiting Dance Artist Series with Todd Rhoades
DESCRIPTION:Visiting guest artist and teacher Todd Rhoades will be in conversation with Dance Department Chair Jeffery Bullock about the current state of dance and contemporary culture.\n\nThursday\, April 11\, 6 – 7 pm\, Botetourt Reading Room
URL:https://www.hollins.edu/event/conversations-visiting-dance-artist-series-with-todd-rhoades-2/
LOCATION:Botetourt Reading Room\, 7916 Williamson Road\, Roanoke\, VA\, 24020\, United States
CATEGORIES:Community Event,Dance,Open to the Public
END:VEVENT
BEGIN:VEVENT
DTSTART;TZID=America/New_York:20240411T193000
DTEND;TZID=America/New_York:20240411T203000
DTSTAMP:20260420T183244
CREATED:20240124T154652Z
LAST-MODIFIED:20240124T154852Z
UID:68172-1712863800-1712867400@www.hollins.edu
SUMMARY:Author of “Looking Both Ways\,” Pauline Kaldas
DESCRIPTION:Kaldas\, professor of English and creative writing at Hollins\, is the author of Looking Both Ways\, a collection of essays (Cune Press 2017); The Time Between Places\, a collection of short stories (University of Arkansas Press 2010); Letters from Cairo\, a travel memoir (Syracuse University Press 2007); and Egyptian Compass\, a collection of poetry (WordTech Communications 2006). She also co-edited with Khaled Mattawa Dinarzad’s Children: An Anthology of Contemporary Arab American Literature (University of Arkansas Press\, 2009). She was awarded a fellowship in fiction from the Virginia Commission of the Arts and has been in residency at the MacDowell Colony and the Virginia Center for the Arts. Her work navigates the geography of immigration\, exploring issues of culture\, identity\, language\, and home. Kaldas was born in Egypt and immigrated with her parents to the United States at the age of eight in 1969.\n\n \n\nSponsored by the Department of English and Creative Writing and the Dee Hull Everist Visiting Speaker Fund.
URL:https://www.hollins.edu/event/author-of-looking-both-ways-pauline-kaldas/
LOCATION:Hollins Room\, Wyndham Robertson Library\, 7916 Williamson Road\, Roanoke\, VA\, 24020\, United States
CATEGORIES:Community Event,Open to the Public,Readings
ATTACH;FMTTYPE=image/jpeg:https://www.hollins.edu/wp-content/uploads/2024/01/Kaldas-Pauline-photo.jpg
END:VEVENT
BEGIN:VEVENT
DTSTART;TZID=America/New_York:20240411T193000
DTEND;TZID=America/New_York:20240413T193000
DTSTAMP:20260420T183244
CREATED:20240110T145816Z
LAST-MODIFIED:20240403T132043Z
UID:67998-1712863800-1713036600@www.hollins.edu
SUMMARY:Student Thesis Theatre Production: "Beautiful Noise"
DESCRIPTION:Beautiful Noise written and directed by Asha-Ashanti Turner ’24 and Mackenzie “Seiya” M. Sessoms ’24 \n· When: April 11-13 at 7:30 pm  \n· Where: Hollins Theatre Main Stage \n· What: Beautiful Noise is a story about two Black women on a journey of self-reclamation. As a piece that reflects the experiences of Black women in America\, particularly through the lenses of the patriarchy\, racism\, and misogyny. We hope that you as our audience can take away your truth and reclaim your power.  \n· Content Warnings: Sexual content\, sexism/misogyny\, partial nudity\, and marijuana use. \n· FREE and open to the public. General admission. No tickets or prior reservations necessary.  \n· For more information\, please visit hollins.edu/theatre.
URL:https://www.hollins.edu/event/student-thesis-theatre-production-beautiful-noise/
LOCATION:Hollins Theatre
CATEGORIES:Community Event,Open to the Public,Theatre
END:VEVENT
END:VCALENDAR