BEGIN:VCALENDAR
VERSION:2.0
PRODID:-//Hollins University - ECPv6.15.20//NONSGML v1.0//EN
CALSCALE:GREGORIAN
METHOD:PUBLISH
X-ORIGINAL-URL:https://www.hollins.edu
X-WR-CALDESC:Events for Hollins University
REFRESH-INTERVAL;VALUE=DURATION:PT1H
X-Robots-Tag:noindex
X-PUBLISHED-TTL:PT1H
BEGIN:VTIMEZONE
TZID:America/New_York
BEGIN:DAYLIGHT
TZOFFSETFROM:-0500
TZOFFSETTO:-0400
TZNAME:EDT
DTSTART:20230312T070000
END:DAYLIGHT
BEGIN:STANDARD
TZOFFSETFROM:-0400
TZOFFSETTO:-0500
TZNAME:EST
DTSTART:20231105T060000
END:STANDARD
BEGIN:DAYLIGHT
TZOFFSETFROM:-0500
TZOFFSETTO:-0400
TZNAME:EDT
DTSTART:20240310T070000
END:DAYLIGHT
BEGIN:STANDARD
TZOFFSETFROM:-0400
TZOFFSETTO:-0500
TZNAME:EST
DTSTART:20241103T060000
END:STANDARD
BEGIN:DAYLIGHT
TZOFFSETFROM:-0500
TZOFFSETTO:-0400
TZNAME:EDT
DTSTART:20250309T070000
END:DAYLIGHT
BEGIN:STANDARD
TZOFFSETFROM:-0400
TZOFFSETTO:-0500
TZNAME:EST
DTSTART:20251102T060000
END:STANDARD
END:VTIMEZONE
BEGIN:VEVENT
DTSTART;TZID=America/New_York:20240406T130000
DTEND;TZID=America/New_York:20240406T160000
DTSTAMP:20260420T183216
CREATED:20240207T175832Z
LAST-MODIFIED:20240405T155543Z
UID:68347-1712408400-1712419200@www.hollins.edu
SUMMARY:Canceled: Quilts and Stories Community Event
DESCRIPTION:Canceled\n\nQuilts and Stories is an opportunity for local quilt collectors and enthusiasts to bring a quilt to the museum for an afternoon of sharing stories about how it was made or given and how it has been important in your life.\n\n“African American Quilts from the Collection of Carolyn Mazloomi\,” on display at the Eleanor D. Wilson Museum through April 14.\n\n• Registration is limited to 20 participants. Each participant is invited to bring one quilt that they will discuss for five minutes. Light refreshments will be provided.\n• To sign up\, please email Laura Carden at cardenla1@hollins.edu with your name\, email address\, phone number\, and type of quilt you’ll be bringing.\n• Registration closes on Monday\, April 1.\n\nQuilts have long provided comfort\, an outlet for creativity\, and a vibrant way to bring history home. We look forward to hearing your story!\n\nMuseum hours: Tuesday – Saturday 12-5 pm\, Thursday 12-8 pm (closed Mondays)
URL:https://www.hollins.edu/event/quilts-and-stories-community-event/
LOCATION:Eleanor D. Wilson Museum\, Richard Wetherill Visual Arts Center
CATEGORIES:Art,Community Event,Open to the Public
END:VEVENT
END:VCALENDAR