BEGIN:VCALENDAR
VERSION:2.0
PRODID:-//Hollins University - ECPv6.15.20//NONSGML v1.0//EN
CALSCALE:GREGORIAN
METHOD:PUBLISH
X-ORIGINAL-URL:https://www.hollins.edu
X-WR-CALDESC:Events for Hollins University
REFRESH-INTERVAL;VALUE=DURATION:PT1H
X-Robots-Tag:noindex
X-PUBLISHED-TTL:PT1H
BEGIN:VTIMEZONE
TZID:America/New_York
BEGIN:DAYLIGHT
TZOFFSETFROM:-0500
TZOFFSETTO:-0400
TZNAME:EDT
DTSTART:20230312T070000
END:DAYLIGHT
BEGIN:STANDARD
TZOFFSETFROM:-0400
TZOFFSETTO:-0500
TZNAME:EST
DTSTART:20231105T060000
END:STANDARD
BEGIN:DAYLIGHT
TZOFFSETFROM:-0500
TZOFFSETTO:-0400
TZNAME:EDT
DTSTART:20240310T070000
END:DAYLIGHT
BEGIN:STANDARD
TZOFFSETFROM:-0400
TZOFFSETTO:-0500
TZNAME:EST
DTSTART:20241103T060000
END:STANDARD
BEGIN:DAYLIGHT
TZOFFSETFROM:-0500
TZOFFSETTO:-0400
TZNAME:EDT
DTSTART:20250309T070000
END:DAYLIGHT
BEGIN:STANDARD
TZOFFSETFROM:-0400
TZOFFSETTO:-0500
TZNAME:EST
DTSTART:20251102T060000
END:STANDARD
END:VTIMEZONE
BEGIN:VEVENT
DTSTART;TZID=America/New_York:20240405T000000
DTEND;TZID=America/New_York:20240405T235959
DTSTAMP:20260420T183246
CREATED:20240222T132712Z
LAST-MODIFIED:20240307T195259Z
UID:68480-1712275200-1712361599@www.hollins.edu
SUMMARY:Classics Symposium: Echoes of Empire: New Approaches to Imperial Strategies in the Ancient Mediterranean
DESCRIPTION:Reception in the lobby following each lecture\n\n2-3 pm\n\nSea Empires and Coastal Connectivity in the Third Century BCE Mediterranean\n\nPresented by Melanie Godsey\, Ph.D.\, Texas Tech University\, Department of Classical and Modern Languages and Literatures\n\n3:15-4:15 pm\n\nThe Toxic Ties that Bind: Empire as the Art of Bullying and North Africa in the Second and First Centuries BCE\n\nPresented by Stephen A. Collins-Elliott\, Ph.D.\, University of Tennessee\, Knoxville\, Department of Classics\n\nFor more information\, please contact gfranko@hollins.edu or mcculloughkd@hollins.edu.\n\nSupport for the Classics Symposium generously provided by the Office of the Provost.\n\n 
URL:https://www.hollins.edu/event/classics-symposium-echoes-of-empire-new-approaches-to-imperial-strategies-in-the-ancient-mediterranean/
LOCATION:Frances Niederer Auditorium\, Richard Wetherill Visual Arts Center
CATEGORIES:Community Event,Lectures,Open to the Public
END:VEVENT
END:VCALENDAR