BEGIN:VCALENDAR
VERSION:2.0
PRODID:-//Hollins University - ECPv6.15.20//NONSGML v1.0//EN
CALSCALE:GREGORIAN
METHOD:PUBLISH
X-WR-CALNAME:Hollins University
X-ORIGINAL-URL:https://www.hollins.edu
X-WR-CALDESC:Events for Hollins University
REFRESH-INTERVAL;VALUE=DURATION:PT1H
X-Robots-Tag:noindex
X-PUBLISHED-TTL:PT1H
BEGIN:VTIMEZONE
TZID:America/New_York
BEGIN:DAYLIGHT
TZOFFSETFROM:-0500
TZOFFSETTO:-0400
TZNAME:EDT
DTSTART:20230312T070000
END:DAYLIGHT
BEGIN:STANDARD
TZOFFSETFROM:-0400
TZOFFSETTO:-0500
TZNAME:EST
DTSTART:20231105T060000
END:STANDARD
BEGIN:DAYLIGHT
TZOFFSETFROM:-0500
TZOFFSETTO:-0400
TZNAME:EDT
DTSTART:20240310T070000
END:DAYLIGHT
BEGIN:STANDARD
TZOFFSETFROM:-0400
TZOFFSETTO:-0500
TZNAME:EST
DTSTART:20241103T060000
END:STANDARD
BEGIN:DAYLIGHT
TZOFFSETFROM:-0500
TZOFFSETTO:-0400
TZNAME:EDT
DTSTART:20250309T070000
END:DAYLIGHT
BEGIN:STANDARD
TZOFFSETFROM:-0400
TZOFFSETTO:-0500
TZNAME:EST
DTSTART:20251102T060000
END:STANDARD
END:VTIMEZONE
BEGIN:VEVENT
DTSTART;TZID=America/New_York:20240404T130000
DTEND;TZID=America/New_York:20240404T140000
DTSTAMP:20260420T182635
CREATED:20240313T123635Z
LAST-MODIFIED:20240313T123742Z
UID:68603-1712235600-1712239200@www.hollins.edu
SUMMARY:Empowering Women through Education with Guest Speaker: Verletta White\, Ph.D.
DESCRIPTION:A results-driven\, student-centered\, visionary leader\, Verletta White\, Ph.D. was appointed superintendent of Roanoke City Public Schools (RCPS) on July 1\, 2020. She has been recognized regionally and nationally for her ability to bring together communities for the benefit of students. In 2023\, she was named Virginia’s 2024 State Superintendent of the Year\, Virginia’s Region VI Superintendent of the Year\, and was also touted as one of the five superintendents in the nation to watch by K-12 Dive.\n\nOften referring to Roanoke City as “the sweetest city on earth\,” White is involved and engaged within the community. She serves on boards and advisory councils for many local\, regional\, and state organizations.\n\nWhite holds a Bachelor of Science degree in education from Towson University\, a Master of Arts degree in leadership in teaching from the Notre Dame of Maryland University\, and a Doctor of Education degree in urban educational leadership from Morgan State University.\n\nWhite and her husband\, Sidney\, are the proud parents of two grown children\, Victoria and Bethany\, both of whom graduated from public schools.
URL:https://www.hollins.edu/event/empowering-women-through-education-with-guest-speaker-verletta-white-ph-d/
LOCATION:Babcock Auditorium\, Dana Science Building
CATEGORIES:Community Event,Lectures,Open to the Public
END:VEVENT
BEGIN:VEVENT
DTSTART;TZID=America/New_York:20240404T180000
DTEND;TZID=America/New_York:20240404T190000
DTSTAMP:20260420T182635
CREATED:20240326T172352Z
LAST-MODIFIED:20240326T172352Z
UID:68708-1712253600-1712257200@www.hollins.edu
SUMMARY:Art Exhibition Opening: "Behind the Scenes at the Museum"
DESCRIPTION:Using selected works from the Eleanor D. Wilson Museum’s permanent collection and the archives at the Wyndham Robertson Library\, student curators put theory into practice in this exhibition\, which is the culmination of the spring class\, Behind the Scenes at the Museum. As part of the class\, students collaborate and share responsibility for conceptualizing\, researching\, designing\, interpreting\, and installing a cohesive exhibition. Participants bring a variety of backgrounds and experience to the class\, pursuing various disciplines. Co-instructors are Stephanie Gibson\, professor of art history\, and Jenine Culligan\, director of the Eleanor D. Wilson Museum.\n\nThrough April 21\, 2024\n\nHours: Tuesday – Saturday 12-5 pm\, Thursday 12-8 pm (closed Mondays) www.hollins.edu/museum
URL:https://www.hollins.edu/event/art-exhibition-opening-behind-the-scenes-at-the-museum/
LOCATION:Eleanor D. Wilson Museum\, Richard Wetherill Visual Arts Center
CATEGORIES:Art,Community Event,Open to the Public,Wilson Museum
END:VEVENT
END:VCALENDAR