BEGIN:VCALENDAR
VERSION:2.0
PRODID:-//Hollins University - ECPv6.15.20//NONSGML v1.0//EN
CALSCALE:GREGORIAN
METHOD:PUBLISH
X-ORIGINAL-URL:https://www.hollins.edu
X-WR-CALDESC:Events for Hollins University
REFRESH-INTERVAL;VALUE=DURATION:PT1H
X-Robots-Tag:noindex
X-PUBLISHED-TTL:PT1H
BEGIN:VTIMEZONE
TZID:America/New_York
BEGIN:DAYLIGHT
TZOFFSETFROM:-0500
TZOFFSETTO:-0400
TZNAME:EDT
DTSTART:20230312T070000
END:DAYLIGHT
BEGIN:STANDARD
TZOFFSETFROM:-0400
TZOFFSETTO:-0500
TZNAME:EST
DTSTART:20231105T060000
END:STANDARD
BEGIN:DAYLIGHT
TZOFFSETFROM:-0500
TZOFFSETTO:-0400
TZNAME:EDT
DTSTART:20240310T070000
END:DAYLIGHT
BEGIN:STANDARD
TZOFFSETFROM:-0400
TZOFFSETTO:-0500
TZNAME:EST
DTSTART:20241103T060000
END:STANDARD
BEGIN:DAYLIGHT
TZOFFSETFROM:-0500
TZOFFSETTO:-0400
TZNAME:EDT
DTSTART:20250309T070000
END:DAYLIGHT
BEGIN:STANDARD
TZOFFSETFROM:-0400
TZOFFSETTO:-0500
TZNAME:EST
DTSTART:20251102T060000
END:STANDARD
END:VTIMEZONE
BEGIN:VEVENT
DTSTART;TZID=America/New_York:20240229T193000
DTEND;TZID=America/New_York:20240229T203000
DTSTAMP:20260420T201038
CREATED:20240213T132654Z
LAST-MODIFIED:20240229T170904Z
UID:68384-1709235000-1709238600@www.hollins.edu
SUMMARY:Author of “The Donkey Elegies\,” Nickole Brown
DESCRIPTION:Brown is the author of The Donkey Elegies (Sibling Rivalry Press\, 2020); Fanny Says (BOA Editions\, 2015)\, a biography in poems about Brown’s grandmother\, which won the Weatherford Award for Appalachian Poetry; and Sister (Sibling Rivalry Press)\, which was first published in 2007 and reissued in 2018. To Those Who Were Our First Gods\, a chapbook of nine poems published by Rattle\, won the 2018 Rattle Prize. With Jessica Jacobs\, she cowrote Write It! 100 Poetry Prompts to Inspire (Spruce Books\, 2020). She is Hollins’ Spring 2024 Writer-in-Residence and teaches in the Sewanee School of Letters’ M.F.A. program\, the Great Smokies Writing Program at the University of North Carolina Asheville\, and in the SunJune Literary Collaborative. Brown received her M.F.A. from the Vermont College of Fine Arts\, studied literature at Oxford University\, and was the editorial assistant for the late Hunter S. Thompson.\n\nSponsored by the Department of English and Creative Writing and the Dee Hull Everist Visiting Speaker Fund.
URL:https://www.hollins.edu/event/author-of-the-donkey-elegies-nickole-brown/
LOCATION:Green Drawing Room\, Main
CATEGORIES:Community Event,Open to the Public,Readings
ATTACH;FMTTYPE=image/jpeg:https://www.hollins.edu/wp-content/uploads/2023/08/nickole-brown.jpg
END:VEVENT
END:VCALENDAR