BEGIN:VCALENDAR
VERSION:2.0
PRODID:-//Hollins University - ECPv6.15.20//NONSGML v1.0//EN
CALSCALE:GREGORIAN
METHOD:PUBLISH
X-ORIGINAL-URL:https://www.hollins.edu
X-WR-CALDESC:Events for Hollins University
REFRESH-INTERVAL;VALUE=DURATION:PT1H
X-Robots-Tag:noindex
X-PUBLISHED-TTL:PT1H
BEGIN:VTIMEZONE
TZID:America/New_York
BEGIN:DAYLIGHT
TZOFFSETFROM:-0500
TZOFFSETTO:-0400
TZNAME:EDT
DTSTART:20230312T070000
END:DAYLIGHT
BEGIN:STANDARD
TZOFFSETFROM:-0400
TZOFFSETTO:-0500
TZNAME:EST
DTSTART:20231105T060000
END:STANDARD
BEGIN:DAYLIGHT
TZOFFSETFROM:-0500
TZOFFSETTO:-0400
TZNAME:EDT
DTSTART:20240310T070000
END:DAYLIGHT
BEGIN:STANDARD
TZOFFSETFROM:-0400
TZOFFSETTO:-0500
TZNAME:EST
DTSTART:20241103T060000
END:STANDARD
BEGIN:DAYLIGHT
TZOFFSETFROM:-0500
TZOFFSETTO:-0400
TZNAME:EDT
DTSTART:20250309T070000
END:DAYLIGHT
BEGIN:STANDARD
TZOFFSETFROM:-0400
TZOFFSETTO:-0500
TZNAME:EST
DTSTART:20251102T060000
END:STANDARD
END:VTIMEZONE
BEGIN:VEVENT
DTSTART;TZID=America/New_York:20240118T000000
DTEND;TZID=America/New_York:20240121T235959
DTSTAMP:20260420T232104
CREATED:20231201T163027Z
LAST-MODIFIED:20231201T163453Z
UID:67809-1705536000-1705881599@www.hollins.edu
SUMMARY:Winter Festival of New Works: "Randi & Roxanne"
DESCRIPTION:A new romantic comedy. Written by Rachel Graf Evans\, directed by Sophia Menconi.\n\nHow do you know what you really want? And how do you know what’s best for you?\n\nJanuary 18\, 19\, 20 at 7:30 pm; January 21 at 2 pm.\n\nHollins Theatre\n\nFor ticket information\, contact stropegm1@hollins.edu.
URL:https://www.hollins.edu/event/winter-festival-of-new-works-randi-roxanne/
LOCATION:Hollins Theatre
CATEGORIES:Community Event,Open to the Public,Theatre
END:VEVENT
BEGIN:VEVENT
DTSTART;TZID=America/New_York:20240119T000000
DTEND;TZID=America/New_York:20240120T235959
DTSTAMP:20260420T232104
CREATED:20231115T155047Z
LAST-MODIFIED:20231115T161057Z
UID:67689-1705622400-1705795199@www.hollins.edu
SUMMARY:Roanoke Regional Writers Conference
DESCRIPTION:Roanoke Regional Writers Conference 2024 is the ideal place to learn\, grow\, and experience the excitement that comes with your love of writing. Join us on January 19 – 20. Cost of the conference is $75 and includes lunch.\nA Message from the Director\nWelcome back! It’s my extreme honor to invite you to the 15th Annual Roanoke Regional Writers Conference! This is the perfect event to learn\, grow\, and connect with other writers in the area. RRWC24 takes place on January 19-20\, 2024\, at Hollins University in Roanoke. The snow date is January 26-27. The cost of the conference is $75 including lunch in the dining hall on Saturday.\n\nWe are so lucky to live in an area with incredible writers of all experiences\, genres\, and backgrounds.  RRWC24 is the ideal place to learn\, grow\, and experience the excitement that comes with your love of writing. It’s time to make your writing dreams a reality\, and we’re all here to help each other out!\n\nThe conference begins on Friday night at 7 p.m. with introductions\, our scholarship presentation\, and what I know will be an incredible keynote from premier guest Lee Hunsaker of “Hoot and Holler” fame. Saturday registration opens at 8:30 a.m.\, with classes starting at 9 a.m. Hunsaker will kick off the morning with a 2-hour workshop that will make your writer hearts sing! You’ll notice a variety of tracks during each hour throughout the day; it’s a good idea to have a backup class in mind should your first choice get filled before you can find a seat. Make sure to bring pen and paper or laptop\, as well as any writing samples you might want to share in particular classes. Our presenters can’t wait to share knowledge and advice\, and there’s no doubt you’ll leave the weekend buzzing with inspiration\, motivation and new friendships!\n\nClass topics vary from fiction and nonfiction\, journalism\, editing\, publishing (traditional and self-publishing)\, poetry\, and more. In addition\, we’re proud to promote our writing community. I highly encourage our writers to connect with others! Writing is a yearlong process and we’d love for you to join our Facebook group to promote discussion\, share in successes\, and more. We look forward to sharing our processes\, learning from each other\, and strengthening our friendships with such talented\, hardworking writers!
URL:https://www.hollins.edu/event/roanoke-regional-writers-conference/
LOCATION:Babcock Auditorium\, Dana Science Building
CATEGORIES:Community Event,Lectures,Open to the Public
END:VEVENT
END:VCALENDAR