BEGIN:VCALENDAR
VERSION:2.0
PRODID:-//Hollins University - ECPv6.15.20//NONSGML v1.0//EN
CALSCALE:GREGORIAN
METHOD:PUBLISH
X-ORIGINAL-URL:https://www.hollins.edu
X-WR-CALDESC:Events for Hollins University
REFRESH-INTERVAL;VALUE=DURATION:PT1H
X-Robots-Tag:noindex
X-PUBLISHED-TTL:PT1H
BEGIN:VTIMEZONE
TZID:America/New_York
BEGIN:DAYLIGHT
TZOFFSETFROM:-0500
TZOFFSETTO:-0400
TZNAME:EDT
DTSTART:20220313T070000
END:DAYLIGHT
BEGIN:STANDARD
TZOFFSETFROM:-0400
TZOFFSETTO:-0500
TZNAME:EST
DTSTART:20221106T060000
END:STANDARD
BEGIN:DAYLIGHT
TZOFFSETFROM:-0500
TZOFFSETTO:-0400
TZNAME:EDT
DTSTART:20230312T070000
END:DAYLIGHT
BEGIN:STANDARD
TZOFFSETFROM:-0400
TZOFFSETTO:-0500
TZNAME:EST
DTSTART:20231105T060000
END:STANDARD
BEGIN:DAYLIGHT
TZOFFSETFROM:-0500
TZOFFSETTO:-0400
TZNAME:EDT
DTSTART:20240310T070000
END:DAYLIGHT
BEGIN:STANDARD
TZOFFSETFROM:-0400
TZOFFSETTO:-0500
TZNAME:EST
DTSTART:20241103T060000
END:STANDARD
END:VTIMEZONE
BEGIN:VEVENT
DTSTART;TZID=America/New_York:20231005T170000
DTEND;TZID=America/New_York:20231005T180000
DTSTAMP:20260421T022935
CREATED:20230824T200858Z
LAST-MODIFIED:20230824T200858Z
UID:63686-1696525200-1696528800@www.hollins.edu
SUMMARY:"What Cuban Literature? An Approach to Mediatization in the 21st Century"
DESCRIPTION:In this presentation\, Dainerys Machado Vento will discuss the mediatic circulation of Cuban literature outside the island as a case study to understand a process like mediatization. She will focus on analyzing the general characteristics of international mediatization of Cuban literature from 2006 to 2018. Questions that will be posed during her talk include which authors and topics became synonymous with Cuban literature during that period? and\, how did political context and technology influence their mediatization?\n\nMachado Vento is a Cuban author\, editor\, and scholar. She holds a Ph.D. in literary\, cultural\, and linguistic studies from the University of Miami and an M.A. in Hispanic American Literature from El Colegio de San Luis A.C.\, Mexico. She is the author of Las noventa Habanas (2019) and Retratos de la orilla (2022)\, two short-story collections. She is also the author of “Los muchachos en Trumplandia” (2023)\, an essay about pop culture and politics in the series The Boys. In 2021\, she was named one of the world’s best young Spanish-language writers by the literary magazine\, Granta. Her work has been translated into English\, Italian\, and Portuguese.
URL:https://www.hollins.edu/event/what-cuban-literature-an-approach-to-mediatization-in-the-21st-century/
LOCATION:Richard Wetherill Visual Arts Center\, Room 119
CATEGORIES:Community Event,Lectures,Open to the Public
ATTACH;FMTTYPE=image/jpeg:https://www.hollins.edu/wp-content/uploads/2023/08/Vento_cropped.jpg
END:VEVENT
BEGIN:VEVENT
DTSTART;TZID=America/New_York:20231006T000000
DTEND;TZID=America/New_York:20231008T235959
DTSTAMP:20260421T022935
CREATED:20230824T171730Z
LAST-MODIFIED:20230927T191943Z
UID:63672-1696550400-1696809599@www.hollins.edu
SUMMARY:Theatre Production: "Goodnight Moon-The Magical Musical"
DESCRIPTION:Written by Margaret Wise Brown ’32\, Adapted for the stage by Chad Henry\n\n 	When: October 6 at 7:30 pm\, October 7 at 10 am and 7:30 pm\, and October 8 at 2 pm\n 	Where: Hollins Theatre Main Stage\n 	What: This magical musical stage version of Margaret Wise Brown’s bedtime classic takes us into the imagination of the child who quite simply is not interested in falling asleep! Imbued with theatre magic\, the Great Green Room comes to life before our eyes – the kittens\, the mittens\, the red balloon\, and the cow jumping over the moon\, tucked in with a few surprises. Although the book was written for the preschool set\, ages three to 103 will be moonstruck by this joyous musical theatre treat.\n 	Admission: $10 General Admission\, $5 for Children under 12\, and one FREE ticket to current Hollins students\, faculty\, and staff\n 	Join us in the Great Green Room October 6-8!\n 	For general admission\, please go to https://our.show/hollinstheatre to reserve your seats!
URL:https://www.hollins.edu/event/theatre-production-goodnight-moon-the-magical-musical/
LOCATION:Hollins Theatre
CATEGORIES:Community Event,Open to the Public,Theatre
ATTACH;FMTTYPE=image/png:https://www.hollins.edu/wp-content/uploads/2023/08/goodnight-moon.-kr.png
END:VEVENT
BEGIN:VEVENT
DTSTART;TZID=America/New_York:20231019T193000
DTEND;TZID=America/New_York:20231019T203000
DTSTAMP:20260421T022935
CREATED:20230814T180017Z
LAST-MODIFIED:20230921T184401Z
UID:63493-1697743800-1697747400@www.hollins.edu
SUMMARY:Reading by the Author of "Pleasantview" Celeste Mohammed
DESCRIPTION:Lawyer-turned-author Celeste Mohammed penned the novel Pleasantview (Ig Publishing\, 2021)\, which won the 2022 CLMP Firecracker Award for Fiction and the 2022 OCM Bocas Prize for Caribbean Literature. Author Tony Eprile called Pleasantview “a formidable debut” and added that the book’s “razor-sharp observations of misogyny and the abuse of power are leavened by humor and a pitch-perfect ear for the language of human.” Her work has appeared in The New England Review\, Litmag\, Epiphany\, The Rumpus\, among other places. She is the recipient of a 2018 PEN/Robert J. Dau Short Story Prize for Emerging Writers. She was also awarded the 2019 Virginia Woolf Award for Short Fiction\, and the 2017 John Gardner Memorial Prize for Fiction. As a native of Trinidad and Tobago\, Mohammad’s goal is to dispel all myths about island life and island people and to highlight the points of intersection between Caribbean and North American interests.\n\nSponsored by the department of English and creative writing and the Dee Hull Everist Visiting Speaker Fund.
URL:https://www.hollins.edu/event/reading-by-the-author-of-pleasantview-celeste-mohammed/
LOCATION:Hollins Room\, Wyndham Robertson Library\, 7916 Williamson Road\, Roanoke\, VA\, 24020\, United States
CATEGORIES:Community Event,Graduate Programs,Open to the Public,Readings
ATTACH;FMTTYPE=image/jpeg:https://www.hollins.edu/wp-content/uploads/2023/08/mohammed_cropped.jpg
END:VEVENT
BEGIN:VEVENT
DTSTART;TZID=America/New_York:20231027T000000
DTEND;TZID=America/New_York:20231028T235959
DTSTAMP:20260421T022935
CREATED:20230824T171907Z
LAST-MODIFIED:20231011T143108Z
UID:63674-1698364800-1698537599@www.hollins.edu
SUMMARY:Theatre Production: "First-Year Reading-Celebrate Our New Students"
DESCRIPTION: \n\n 	When: October 27 and 28 at 7:30 pm\n 	Where: Botetourt Reading Room\n 	What: A staged reading of The Seven Loves of Audrey Munson: A Mostly True Story\, Except for the Parts We Made Up\, written by J. Harvey Stone. This one-act play imagines the career of America’s first supermodel\, Audrey Munson. It was selected by the Hollins Theatre Season Selection Committee and is performed by Hollins first-year students.\n 	Admission: FREE and open to the public\n 	Come out and join us! October 27-28!
URL:https://www.hollins.edu/event/theatre-production-first-year-reading-celebrate-our-new-students/
LOCATION:Botetourt Reading Room\, 7916 Williamson Road\, Roanoke\, VA\, 24020\, United States
CATEGORIES:Community Event,Open to the Public,Theatre
END:VEVENT
BEGIN:VEVENT
DTSTART;TZID=America/New_York:20231029T150000
DTEND;TZID=America/New_York:20231029T160000
DTSTAMP:20260421T022935
CREATED:20231004T174545Z
LAST-MODIFIED:20231004T175015Z
UID:64053-1698591600-1698595200@www.hollins.edu
SUMMARY:Valley Chamber Orchestra Concert
DESCRIPTION:Valley Chamber Orchestra provides amateur\, professional\, and student musicians of Southwest Virginia the opportunity to rehearse and perform orchestral music on a recreational basis for the pure enjoyment of music.
URL:https://www.hollins.edu/event/valley-chamber-orchestra-concert/
LOCATION:duPont Chapel\, 7980 E Campus Dr\, Roanoke\,\, VA\, 24020\, United States
CATEGORIES:Community Event,Concerts,Music,Open to the Public
END:VEVENT
END:VCALENDAR