BEGIN:VCALENDAR
VERSION:2.0
PRODID:-//Hollins University - ECPv6.15.20//NONSGML v1.0//EN
CALSCALE:GREGORIAN
METHOD:PUBLISH
X-WR-CALNAME:Hollins University
X-ORIGINAL-URL:https://www.hollins.edu
X-WR-CALDESC:Events for Hollins University
REFRESH-INTERVAL;VALUE=DURATION:PT1H
X-Robots-Tag:noindex
X-PUBLISHED-TTL:PT1H
BEGIN:VTIMEZONE
TZID:America/New_York
BEGIN:DAYLIGHT
TZOFFSETFROM:-0500
TZOFFSETTO:-0400
TZNAME:EDT
DTSTART:20250309T070000
END:DAYLIGHT
BEGIN:STANDARD
TZOFFSETFROM:-0400
TZOFFSETTO:-0500
TZNAME:EST
DTSTART:20251102T060000
END:STANDARD
BEGIN:DAYLIGHT
TZOFFSETFROM:-0500
TZOFFSETTO:-0400
TZNAME:EDT
DTSTART:20260308T070000
END:DAYLIGHT
BEGIN:STANDARD
TZOFFSETFROM:-0400
TZOFFSETTO:-0500
TZNAME:EST
DTSTART:20261101T060000
END:STANDARD
BEGIN:DAYLIGHT
TZOFFSETFROM:-0500
TZOFFSETTO:-0400
TZNAME:EDT
DTSTART:20270314T070000
END:DAYLIGHT
BEGIN:STANDARD
TZOFFSETFROM:-0400
TZOFFSETTO:-0500
TZNAME:EST
DTSTART:20271107T060000
END:STANDARD
END:VTIMEZONE
BEGIN:VEVENT
DTSTART;TZID=America/New_York:20260420T170000
DTEND;TZID=America/New_York:20260420T183000
DTSTAMP:20260420T061014
CREATED:20250905T180619Z
LAST-MODIFIED:20250905T201818Z
UID:71485-1776704400-1776709800@www.hollins.edu
SUMMARY:Jeanine Stewart - AI Meets Human Intelligence: Navigating the Multi-Cognitive Workplace
DESCRIPTION:Date: April 20th\n 	Time: 5:00 PM-6:30 PM\n\n 	5:00 PM: Networking\n 	5:30 PM-6:30 PM: Speaker/Workshop\n\n\n 	Location: Grandin CoLab (Event Space)\n 	Description: As managers and executives integrate AI tools into workplaces with a goal of boosting performance\, they’re discovering unexpected challenges where artificial intelligence meets human cognition. This intersection creates new forms of workplace stress and requires fresh approaches to team development. Drawing on neuroscience research and applied psychology\, we will consider some practical approaches for supporting leaders and their teams as organizations navigate this dynamic technological transformation.\n 	Speaker Bio: Jeanine Stewart is a neuroscientist\, executive coach\, and former C-level executive who specializes in the intersection of AI\, neuroscience\, and leadership. She works with executives at major global organizations to help them master adaptive leadership in environments where human and artificial intelligence must collaborate effectively. Dr. Stewart has developed the NeuroMighty™ framework\, which focuses on how human brains work in synchrony with one another and how to build core brain strengths that optimize team performance.\n 	FREE to the public. Registration is required. Register for any Leading Together Series Dates\n\n \nRegister Today
URL:https://www.hollins.edu/event/jeanine-stewart-ai-meets-human-intelligence/
LOCATION:Grandin CoLab (CoLaboration Space)\, 1327 Grandin Rd SW\, Roanoke\,\, VA\, 24015\, United States
CATEGORIES:Leading Together Series,Open to the Public
ATTACH;FMTTYPE=image/jpeg:https://www.hollins.edu/wp-content/uploads/2025/09/Jeanine-Stewart-Headshot.jpeg
END:VEVENT
END:VCALENDAR